BEGIN:VCALENDAR
VERSION:2.0
PRODID:-//Sydney Colonial Muzzle Loading Club - ECPv6.3.3.1//NONSGML v1.0//EN
CALSCALE:GREGORIAN
METHOD:PUBLISH
X-ORIGINAL-URL:https://scmlclub.com
X-WR-CALDESC:Events for Sydney Colonial Muzzle Loading Club
REFRESH-INTERVAL;VALUE=DURATION:PT1H
X-Robots-Tag:noindex
X-PUBLISHED-TTL:PT1H
BEGIN:VTIMEZONE
TZID:UTC
BEGIN:STANDARD
TZOFFSETFROM:+0000
TZOFFSETTO:+0000
TZNAME:UTC
DTSTART:20250101T000000
END:STANDARD
TZID:UTC
BEGIN:STANDARD
TZOFFSETFROM:+0000
TZOFFSETTO:+0000
TZNAME:UTC
DTSTART:20250101T000000
END:STANDARD
END:VTIMEZONE
BEGIN:VEVENT
DTSTART;VALUE=DATE:20250412
DTEND;VALUE=DATE:20250413
DTSTAMP:20260424T012151
CREATED:20240820T165339Z
LAST-MODIFIED:20241122T212312Z
UID:13304-1744416000-1744502399@scmlclub.com
SUMMARY:Training Event
DESCRIPTION:9am Start. \nSCMLC\, Sackville Ferry Road\, Sackville \nEnsure you have Ear and Eye Protection \n• Pistol\n• Rifle\n• Bookings Essential via:\ntraining.scmlc@gmail.com
URL:https://scmlclub.com/event/training-event-15/
LOCATION:SCMLC\, Sackville Ferry Rd\, Sackville North\, NSW\, 2756\, Australia
END:VEVENT
BEGIN:VEVENT
DTSTART;TZID=UTC:20250412T090000
DTEND;TZID=UTC:20250412T170000
DTSTAMP:20260424T012151
CREATED:20250116T212514Z
LAST-MODIFIED:20250117T233631Z
UID:13341-1744448400-1744477200@scmlclub.com
SUMMARY:Rifle Development Day
DESCRIPTION:This development day is set up to test a new Rifle Event aimed at various target sizes at various distances. \nThese events are conducted on the lower 300m Rifle Range \nFor further information contact: \nscmlc.training@gmail.com \nThe event organizer will get back to you with more information. \nBOOKINGS ARE ESSENTIAL FOR THESE EVENTS
URL:https://scmlclub.com/event/rifle-load-development-day-3/
LOCATION:SCMLC\, Sackville Ferry Rd\, Sackville North\, NSW\, 2756\, Australia
CATEGORIES:Rifle Development Day
ORGANIZER;CN="Andrew Norman":MAILTO:scmlc.training@gmail.com
END:VEVENT
BEGIN:VEVENT
DTSTART;VALUE=DATE:20250413
DTEND;VALUE=DATE:20250414
DTSTAMP:20260424T012151
CREATED:20240805T073922Z
LAST-MODIFIED:20240805T073922Z
UID:13276-1744502400-1744588799@scmlclub.com
SUMMARY:Shotgun Event
DESCRIPTION:• Hero of the Hill\n• Modern 25\n• B P Cartridge\n• Flintlock Shotgun – Winchester Trophy
URL:https://scmlclub.com/event/shotgun-event-47/
LOCATION:SCMLC\, Sackville Ferry Rd\, Sackville North\, NSW\, 2756\, Australia
END:VEVENT
BEGIN:VEVENT
DTSTART;TZID=UTC:20250420T090000
DTEND;TZID=UTC:20250420T170000
DTSTAMP:20260424T012151
CREATED:20250117T234531Z
LAST-MODIFIED:20250117T234531Z
UID:13368-1745139600-1745168400@scmlclub.com
SUMMARY:Rifle Development Day
DESCRIPTION:This development day is set up to test a new Rifle Event aimed at various target sizes at various distances. \nThese events are conducted on the lower 300m Rifle Range \nFor further information contact: \nscmlc.training@gmail.com \nThe event organizer will get back to you with more information. \nBOOKINGS ARE ESSENTIAL FOR THESE EVENTS
URL:https://scmlclub.com/event/rifle-development-day-3/
LOCATION:SCMLC\, Sackville Ferry Rd\, Sackville North\, NSW\, 2756\, Australia
ORGANIZER;CN="Andrew Norman":MAILTO:scmlc.training@gmail.com
END:VEVENT
BEGIN:VEVENT
DTSTART;VALUE=DATE:20250427
DTEND;VALUE=DATE:20250428
DTSTAMP:20260424T012151
CREATED:20240820T165229Z
LAST-MODIFIED:20241105T104817Z
UID:13292-1745712000-1745798399@scmlclub.com
SUMMARY:Pistol Event
DESCRIPTION:• 25m Cap A Ball 13/10\n• 25m Centre Fire 15/15\n• 25m Single Action Times 20 Center Ring to count\n• 25m Double Action Times 24 Center Ring to count\n• 25m BP Cartridge 13/10\n• 25m 0.22 Rim Fire 15/18\n• 50m 0.22 Rifle
URL:https://scmlclub.com/event/pistol-event-34/
LOCATION:SCMLC\, Sackville Ferry Rd\, Sackville North\, NSW\, 2756\, Australia
END:VEVENT
END:VCALENDAR