BEGIN:VCALENDAR
VERSION:2.0
PRODID:-//Sydney Colonial Muzzle Loading Club - ECPv6.3.3.1//NONSGML v1.0//EN
CALSCALE:GREGORIAN
METHOD:PUBLISH
X-ORIGINAL-URL:https://scmlclub.com
X-WR-CALDESC:Events for Sydney Colonial Muzzle Loading Club
REFRESH-INTERVAL;VALUE=DURATION:PT1H
X-Robots-Tag:noindex
X-PUBLISHED-TTL:PT1H
BEGIN:VTIMEZONE
TZID:UTC
BEGIN:STANDARD
TZOFFSETFROM:+0000
TZOFFSETTO:+0000
TZNAME:UTC
DTSTART:20250101T000000
END:STANDARD
TZID:UTC
BEGIN:STANDARD
TZOFFSETFROM:+0000
TZOFFSETTO:+0000
TZNAME:UTC
DTSTART:20250101T000000
END:STANDARD
END:VTIMEZONE
BEGIN:VEVENT
DTSTART;VALUE=DATE:20250308
DTEND;VALUE=DATE:20250309
DTSTAMP:20260423T234109
CREATED:20240820T165339Z
LAST-MODIFIED:20241122T212334Z
UID:13303-1741392000-1741478399@scmlclub.com
SUMMARY:Training Event
DESCRIPTION:9am Start. \nSCMLC\, Sackville Ferry Road\, Sackville \nEnsure you have Ear and Eye Protection \n• Pistol\n• Rifle\n• Bookings Essential via:\ntraining.scmlc@gmail.com
URL:https://scmlclub.com/event/training-event-14/
LOCATION:SCMLC\, Sackville Ferry Rd\, Sackville North\, NSW\, 2756\, Australia
END:VEVENT
BEGIN:VEVENT
DTSTART;TZID=UTC:20250308T090000
DTEND;TZID=UTC:20250308T170000
DTSTAMP:20260423T234109
CREATED:20250116T212314Z
LAST-MODIFIED:20250117T233659Z
UID:13339-1741424400-1741453200@scmlclub.com
SUMMARY:Rifle Development Day
DESCRIPTION:This development day is set up to test a new Rifle Event aimed at various target sizes at various distances. \nThese events are conducted on the lower 300m Rifle Range \nFor further information contact: \nscmlc.training@gmail.com \nThe event organizer will get back to you with more information. \nBOOKINGS ARE ESSENTIAL FOR THESE EVENTS
URL:https://scmlclub.com/event/rifle-load-development-day-2/
LOCATION:SCMLC\, Sackville Ferry Rd\, Sackville North\, NSW\, 2756\, Australia
CATEGORIES:Rifle Development Day
ORGANIZER;CN="Andrew Norman":MAILTO:scmlc.training@gmail.com
END:VEVENT
BEGIN:VEVENT
DTSTART;VALUE=DATE:20250309
DTEND;VALUE=DATE:20250310
DTSTAMP:20260423T234109
CREATED:20240805T073922Z
LAST-MODIFIED:20240805T073922Z
UID:13274-1741478400-1741564799@scmlclub.com
SUMMARY:Shotgun Event
DESCRIPTION:• Hero of the Hill\n• Modern 25\n• B.P Cartridge – Ken Turnbull Trophy\n• Percussion Shotgun – T&T Double Rise Trophy
URL:https://scmlclub.com/event/shotgun-event-45/
LOCATION:SCMLC\, Sackville Ferry Rd\, Sackville North\, NSW\, 2756\, Australia
END:VEVENT
BEGIN:VEVENT
DTSTART;VALUE=DATE:20250316
DTEND;VALUE=DATE:20250317
DTSTAMP:20260423T234109
CREATED:20240805T073922Z
LAST-MODIFIED:20240805T073922Z
UID:13275-1742083200-1742169599@scmlclub.com
SUMMARY:Shotgun Event
DESCRIPTION:• S.C.M.L.C. 100 Bird – Open Shoot\n• Trophies for Members and Visitors\n• Lunch included
URL:https://scmlclub.com/event/shotgun-event-46/
LOCATION:SCMLC\, Sackville Ferry Rd\, Sackville North\, NSW\, 2756\, Australia
END:VEVENT
BEGIN:VEVENT
DTSTART;VALUE=DATE:20250323
DTEND;VALUE=DATE:20250324
DTSTAMP:20260423T234109
CREATED:20240820T165228Z
LAST-MODIFIED:20241105T104817Z
UID:13291-1742688000-1742774399@scmlclub.com
SUMMARY:Pistol Event
DESCRIPTION:• 25m Cap A Ball 13/10\n• 25m Centre Fire 15/15\n• 25m Single Action Times 20 Center Ring to count\n• 25m Double Action Times 24 Center Ring to count\n• 25m BP Cartridge 13/10\n• 25m 0.22 Rim Fire 15/18\n• 100m 0.22 Rifle\n• K&S Shannon 100m Cap and Ball 12 Shots
URL:https://scmlclub.com/event/pistol-event-33/
LOCATION:SCMLC\, Sackville Ferry Rd\, Sackville North\, NSW\, 2756\, Australia
END:VEVENT
END:VCALENDAR