BEGIN:VCALENDAR
VERSION:2.0
PRODID:-//Sydney Colonial Muzzle Loading Club - ECPv6.3.3.1//NONSGML v1.0//EN
CALSCALE:GREGORIAN
METHOD:PUBLISH
X-WR-CALNAME:Sydney Colonial Muzzle Loading Club
X-ORIGINAL-URL:https://scmlclub.com
X-WR-CALDESC:Events for Sydney Colonial Muzzle Loading Club
REFRESH-INTERVAL;VALUE=DURATION:PT1H
X-Robots-Tag:noindex
X-PUBLISHED-TTL:PT1H
BEGIN:VTIMEZONE
TZID:UTC
BEGIN:STANDARD
TZOFFSETFROM:+0000
TZOFFSETTO:+0000
TZNAME:UTC
DTSTART:20250101T000000
END:STANDARD
TZID:UTC
BEGIN:STANDARD
TZOFFSETFROM:+0000
TZOFFSETTO:+0000
TZNAME:UTC
DTSTART:20250101T000000
END:STANDARD
END:VTIMEZONE
BEGIN:VEVENT
DTSTART;VALUE=DATE:20250111
DTEND;VALUE=DATE:20250112
DTSTAMP:20260423T200827
CREATED:20240820T165339Z
LAST-MODIFIED:20241122T212415Z
UID:13301-1736553600-1736639999@scmlclub.com
SUMMARY:Training Event
DESCRIPTION:9am Start. \nSCMLC\, Sackville Ferry Road\, Sackville \nEnsure you have Ear and Eye Protection \n• Pistol\n• Rifle\n• Bookings Essential via:\ntraining.scmlc@gmail.com
URL:https://scmlclub.com/event/training-event-12/
LOCATION:SCMLC\, Sackville Ferry Rd\, Sackville North\, NSW\, 2756\, Australia
END:VEVENT
BEGIN:VEVENT
DTSTART;VALUE=DATE:20250112
DTEND;VALUE=DATE:20250113
DTSTAMP:20260423T200827
CREATED:20240805T073907Z
LAST-MODIFIED:20240805T073907Z
UID:13272-1736640000-1736726399@scmlclub.com
SUMMARY:Shotgun Event
DESCRIPTION:• Hero of the Hill\n• Modern 25\n• B P Cartridge\n• Percussion Shotgun
URL:https://scmlclub.com/event/shotgun-event-43/
LOCATION:SCMLC\, Sackville Ferry Rd\, Sackville North\, NSW\, 2756\, Australia
END:VEVENT
BEGIN:VEVENT
DTSTART;TZID=UTC:20250119T090000
DTEND;TZID=UTC:20250119T170000
DTSTAMP:20260423T200827
CREATED:20250117T233809Z
LAST-MODIFIED:20250117T233809Z
UID:13356-1737277200-1737306000@scmlclub.com
SUMMARY:Rifle Development Day
DESCRIPTION:This development day is set up to test a new Rifle Event aimed at various target sizes at various distances. \nThese events are conducted on the lower 300m Rifle Range \nFor further information contact: \nscmlc.training@gmail.com \nThe event organizer will get back to you with more information. \nBOOKINGS ARE ESSENTIAL FOR THESE EVENTS
URL:https://scmlclub.com/event/rifle-development-day/
LOCATION:SCMLC\, Sackville Ferry Rd\, Sackville North\, NSW\, 2756\, Australia
ORGANIZER;CN="Andrew Norman":MAILTO:scmlc.training@gmail.com
END:VEVENT
BEGIN:VEVENT
DTSTART;VALUE=DATE:20250126
DTEND;VALUE=DATE:20250127
DTSTAMP:20260423T200827
CREATED:20240820T165228Z
LAST-MODIFIED:20241105T104817Z
UID:13289-1737849600-1737935999@scmlclub.com
SUMMARY:Pistol Event
DESCRIPTION:• 25m Cap A Ball 13/10\n• 25m Centre Fire 15/15\n• 25m Single Action Times 20 Center Ring to count\n• 25m Double Action Times 24 Center Ring to count\n• 25m BP Cartridge 13/10\n• 25m 0.22 Rim Fire 15/18\n• 100m 0.22 Rifle\n• Barry Lowe Memorial Handicap Score
URL:https://scmlclub.com/event/pistol-event-31/
LOCATION:SCMLC\, Sackville Ferry Rd\, Sackville North\, NSW\, 2756\, Australia
END:VEVENT
END:VCALENDAR