BEGIN:VCALENDAR
VERSION:2.0
PRODID:-//Sydney Colonial Muzzle Loading Club - ECPv6.3.3.1//NONSGML v1.0//EN
CALSCALE:GREGORIAN
METHOD:PUBLISH
X-ORIGINAL-URL:https://scmlclub.com
X-WR-CALDESC:Events for Sydney Colonial Muzzle Loading Club
REFRESH-INTERVAL;VALUE=DURATION:PT1H
X-Robots-Tag:noindex
X-PUBLISHED-TTL:PT1H
BEGIN:VTIMEZONE
TZID:UTC
BEGIN:STANDARD
TZOFFSETFROM:+0000
TZOFFSETTO:+0000
TZNAME:UTC
DTSTART:20240101T000000
END:STANDARD
END:VTIMEZONE
BEGIN:VEVENT
DTSTART;VALUE=DATE:20241103
DTEND;VALUE=DATE:20241104
DTSTAMP:20260423T200954
CREATED:20240304T092451Z
LAST-MODIFIED:20240304T092949Z
UID:13229-1730592000-1730678399@scmlclub.com
SUMMARY:Single Action Event
DESCRIPTION:Timed Single Action Scenarios\n• Scenario 1-3: Stage A\n• Scenario 4-6: Stage B
URL:https://scmlclub.com/event/single-action-event-20/
LOCATION:SCMLC\, Sackville Ferry Rd\, Sackville North\, NSW\, 2756\, Australia
END:VEVENT
BEGIN:VEVENT
DTSTART;VALUE=DATE:20241109
DTEND;VALUE=DATE:20241110
DTSTAMP:20260423T200954
CREATED:20231205T074938Z
LAST-MODIFIED:20241122T212618Z
UID:13140-1731110400-1731196799@scmlclub.com
SUMMARY:Training Event
DESCRIPTION:9am Start. \nSCMLC\, Sackville Ferry Road\, Sackville \nEnsure you have Ear and Eye Protection \n• Pistol\n• Rifle\n• Bookings Essential via:\ntraining.scmlc@gmail.com
URL:https://scmlclub.com/event/training-event-10/
LOCATION:SCMLC\, Sackville Ferry Rd\, Sackville North\, NSW\, 2756\, Australia
CATEGORIES:Training Day
END:VEVENT
BEGIN:VEVENT
DTSTART;VALUE=DATE:20241110
DTEND;VALUE=DATE:20241111
DTSTAMP:20260423T200954
CREATED:20240304T065338Z
LAST-MODIFIED:20240304T065338Z
UID:13180-1731196800-1731283199@scmlclub.com
SUMMARY:Rifle Event
DESCRIPTION:• 100yd Percussion\, Bench Rest\, 10 rounds\, Agg• 25M Snap\, 6 Bull Target 12 rounds @ 5 seconds each\n• 50M Plate\, Trad round ball only\, O/Hand\, 10 rounds\, Agg\n• Hunting Event\, target type named on the day\, .22 Rifles included\n• BP Cartridge “Deer” Shoot\, 12 rounds @ 50M \n• Cannon: 25M\, 5 rounds\, Agg
URL:https://scmlclub.com/event/rifle-event-12/
LOCATION:SCMLC\, Sackville Ferry Rd\, Sackville North\, NSW\, 2756\, Australia
END:VEVENT
BEGIN:VEVENT
DTSTART;VALUE=DATE:20241110
DTEND;VALUE=DATE:20241111
DTSTAMP:20260423T200954
CREATED:20240805T073906Z
LAST-MODIFIED:20240805T073906Z
UID:13270-1731196800-1731283199@scmlclub.com
SUMMARY:Shotgun Event
DESCRIPTION:• Hero of the Hill\n• Modern 50  (Black Powder or Nitro)\n• B P Cartridge\n• Flintlock Shotgun
URL:https://scmlclub.com/event/shotgun-event-41/
LOCATION:SCMLC\, Sackville Ferry Rd\, Sackville North\, NSW\, 2756\, Australia
END:VEVENT
BEGIN:VEVENT
DTSTART;TZID=UTC:20241110T000000
DTEND;TZID=UTC:20241110T000000
DTSTAMP:20260423T200954
CREATED:20240304T084936Z
LAST-MODIFIED:20240304T084936Z
UID:13211-1731196800-1731196800@scmlclub.com
SUMMARY:Shotgun Event
DESCRIPTION:• Hero of the Hill: 50 Sporting Targets• Modern 50  (Black Powder or Nitro): 50 Sporting Targets S/B\n• B P Cartridge: 20 Trap\n• Flintlock Shotgun: 10 Surprise Targets
URL:https://scmlclub.com/event/shotgun-event-38/
LOCATION:NSW
END:VEVENT
BEGIN:VEVENT
DTSTART;VALUE=DATE:20241124
DTEND;VALUE=DATE:20241125
DTSTAMP:20260423T200954
CREATED:20231205T075407Z
LAST-MODIFIED:20241105T104816Z
UID:13153-1732406400-1732492799@scmlclub.com
SUMMARY:Pistol Event
DESCRIPTION:• 25m Cap A Ball 13/10\n• 25m Centre Fire 15/15\n• 25m Single Action Times 20 Center Ring to count\n• 25m Double Action Times 24 Center Ring to count\n• 25m BP Cartridge 13/10\n• 25m 0.22 Rim Fire 15/18\n• 100m 0.22 Rifle\n• Ken Hiley Cartridge Aggrigate 26 Round Nose
URL:https://scmlclub.com/event/pistol-event-29/
LOCATION:SCMLC\, Sackville Ferry Rd\, Sackville North\, NSW\, 2756\, Australia
END:VEVENT
END:VCALENDAR