BEGIN:VCALENDAR
VERSION:2.0
PRODID:-//Sydney Colonial Muzzle Loading Club - ECPv6.3.3.1//NONSGML v1.0//EN
CALSCALE:GREGORIAN
METHOD:PUBLISH
X-ORIGINAL-URL:https://scmlclub.com
X-WR-CALDESC:Events for Sydney Colonial Muzzle Loading Club
REFRESH-INTERVAL;VALUE=DURATION:PT1H
X-Robots-Tag:noindex
X-PUBLISHED-TTL:PT1H
BEGIN:VTIMEZONE
TZID:UTC
BEGIN:STANDARD
TZOFFSETFROM:+0000
TZOFFSETTO:+0000
TZNAME:UTC
DTSTART:20240101T000000
END:STANDARD
END:VTIMEZONE
BEGIN:VEVENT
DTSTART;VALUE=DATE:20241006
DTEND;VALUE=DATE:20241007
DTSTAMP:20260423T215217
CREATED:20240304T092451Z
LAST-MODIFIED:20240304T092941Z
UID:13228-1728172800-1728259199@scmlclub.com
SUMMARY:Single Action Event
DESCRIPTION:Timed Single Action Scenarios\n• Scenario 1-3: Stage A\n• Scenario 4-6: Stage B
URL:https://scmlclub.com/event/single-action-event-19/
LOCATION:SCMLC\, Sackville Ferry Rd\, Sackville North\, NSW\, 2756\, Australia
END:VEVENT
BEGIN:VEVENT
DTSTART;VALUE=DATE:20241012
DTEND;VALUE=DATE:20241013
DTSTAMP:20260423T215217
CREATED:20231205T074938Z
LAST-MODIFIED:20240820T165338Z
UID:13139-1728691200-1728777599@scmlclub.com
SUMMARY:Training Event
DESCRIPTION:• Pistol\n• Rifle\n• Bookings Essential via:\ntraining.scmlc@gmail.com
URL:https://scmlclub.com/event/training-event-9/
LOCATION:SCMLC\, Sackville Ferry Rd\, Sackville North\, NSW\, 2756\, Australia
END:VEVENT
BEGIN:VEVENT
DTSTART;VALUE=DATE:20241013
DTEND;VALUE=DATE:20241014
DTSTAMP:20260423T215217
CREATED:20240304T065338Z
LAST-MODIFIED:20240304T071002Z
UID:13178-1728777600-1728863999@scmlclub.com
SUMMARY:Rifle Event
DESCRIPTION:25M Flintlock Fox Target O/Hand\, 5 x 5 rounds\, Agg\n100yd Presidents Cup Trophy O/Hand\, (open event conical and round ball projectiles) 10 rounds and100yd Turnbull/Kell Round Ball Trophy\nO/Hand\, 10 rounds (these two competitions are run as a single event for conical and round ball projectiles. Competitors using conical projectiles can only win the Presidents Cup\, competitors using round ball can win both events)\n50M Plate\, Trad round ball only\, O/Hand\, 10 rounds\, Agg\nHunting Event\, target type named on the day\, .22 Rifles included\nBP Cartridge ” To be Advised”
URL:https://scmlclub.com/event/rifle-event-10/
LOCATION:SCMLC\, Sackville Ferry Rd\, Sackville North\, NSW\, 2756\, Australia
END:VEVENT
BEGIN:VEVENT
DTSTART;VALUE=DATE:20241013
DTEND;VALUE=DATE:20241014
DTSTAMP:20260423T215217
CREATED:20240805T073906Z
LAST-MODIFIED:20240805T073906Z
UID:13269-1728777600-1728863999@scmlclub.com
SUMMARY:Shotgun Event
DESCRIPTION:• Hero of the Hill\n• Modern 25\n• B P Cartridge\n• Percussion
URL:https://scmlclub.com/event/shotgun-event-40/
LOCATION:SCMLC\, Sackville Ferry Rd\, Sackville North\, NSW\, 2756\, Australia
END:VEVENT
BEGIN:VEVENT
DTSTART;TZID=UTC:20241013T000000
DTEND;TZID=UTC:20241013T000000
DTSTAMP:20260423T215217
CREATED:20240304T084936Z
LAST-MODIFIED:20240304T084936Z
UID:13210-1728777600-1728777600@scmlclub.com
SUMMARY:Shotgun Event
DESCRIPTION:• Hero of the Hill: 50 Sporting Targets• Modern 25: Trap S/B\n• B P Cartridge: 20 Sporting Targets\n• Percussion: 10 Overhead
URL:https://scmlclub.com/event/shotgun-event-37/
LOCATION:NSW
END:VEVENT
BEGIN:VEVENT
DTSTART;VALUE=DATE:20241018
DTEND;VALUE=DATE:20241021
DTSTAMP:20260423T215217
CREATED:20240304T065338Z
LAST-MODIFIED:20240304T065338Z
UID:13179-1729209600-1729468799@scmlclub.com
SUMMARY:Rifle Event
DESCRIPTION:64th Australian Muzzle Loading Championships? 79 Rankins Springs Road\, Rankins Springs\, NSW 2669
URL:https://scmlclub.com/event/rifle-event-11/
LOCATION:SCMLC\, Sackville Ferry Rd\, Sackville North\, NSW\, 2756\, Australia
END:VEVENT
BEGIN:VEVENT
DTSTART;VALUE=DATE:20241027
DTEND;VALUE=DATE:20241028
DTSTAMP:20260423T215217
CREATED:20231205T075407Z
LAST-MODIFIED:20241105T104816Z
UID:13152-1729987200-1730073599@scmlclub.com
SUMMARY:Pistol Event
DESCRIPTION:• 25m Cap A Ball 13/10\n• 25m Centre Fire 15/15\n• 25m Single Action Times 20 Center Ring to count\n• 25m Double Action Times 24 Center Ring to count\n• 25m BP Cartridge 13/10\n• 25m 0.22 Rim Fire 15/18\n• 50m 0.22 Rifle
URL:https://scmlclub.com/event/pistol-event-28/
LOCATION:SCMLC\, Sackville Ferry Rd\, Sackville North\, NSW\, 2756\, Australia
END:VEVENT
END:VCALENDAR