BEGIN:VCALENDAR
VERSION:2.0
PRODID:-//Sydney Colonial Muzzle Loading Club - ECPv6.3.3.1//NONSGML v1.0//EN
CALSCALE:GREGORIAN
METHOD:PUBLISH
X-WR-CALNAME:Sydney Colonial Muzzle Loading Club
X-ORIGINAL-URL:https://scmlclub.com
X-WR-CALDESC:Events for Sydney Colonial Muzzle Loading Club
REFRESH-INTERVAL;VALUE=DURATION:PT1H
X-Robots-Tag:noindex
X-PUBLISHED-TTL:PT1H
BEGIN:VTIMEZONE
TZID:UTC
BEGIN:STANDARD
TZOFFSETFROM:+0000
TZOFFSETTO:+0000
TZNAME:UTC
DTSTART:20240101T000000
END:STANDARD
END:VTIMEZONE
BEGIN:VEVENT
DTSTART;VALUE=DATE:20240901
DTEND;VALUE=DATE:20240902
DTSTAMP:20260423T234516
CREATED:20240304T092451Z
LAST-MODIFIED:20240304T092934Z
UID:13227-1725148800-1725235199@scmlclub.com
SUMMARY:Single Action Event
DESCRIPTION:Timed Single Action Scenarios\n• Scenario 1-3: Stage A\n• Scenario 4-6: Stage B
URL:https://scmlclub.com/event/single-action-event-18/
LOCATION:SCMLC\, Sackville Ferry Rd\, Sackville North\, NSW\, 2756\, Australia
END:VEVENT
BEGIN:VEVENT
DTSTART;VALUE=DATE:20240908
DTEND;VALUE=DATE:20240909
DTSTAMP:20260423T234516
CREATED:20240304T065338Z
LAST-MODIFIED:20240304T065338Z
UID:13177-1725753600-1725839999@scmlclub.com
SUMMARY:Rifle Event
DESCRIPTION:• 50M Percussion O/Hand\, 10 rounds\, Agg• J & E Kell Trophy\, BP Breechloading Rifle\, 100yd\, Bench Rest\, 10 rounds\n• Colonial BP Breechloading Rifle\, 100yd O/Hand 10 rounds\n• 50M Plate\, Trad round ball only\, O/Hand\, 10 rounds\, Agg\n• Hunting Event\, target type named on the day\, .22 Rifles included \n• Cannon: 25M\, 3 rounds\, then same target\n• Cannon: 50M\, 3 rounds – Agg
URL:https://scmlclub.com/event/rifle-event-9/
LOCATION:SCMLC\, Sackville Ferry Rd\, Sackville North\, NSW\, 2756\, Australia
END:VEVENT
BEGIN:VEVENT
DTSTART;VALUE=DATE:20240908
DTEND;VALUE=DATE:20240909
DTSTAMP:20260423T234516
CREATED:20240304T084936Z
LAST-MODIFIED:20240805T073904Z
UID:13209-1725753600-1725839999@scmlclub.com
SUMMARY:Shotgun Event
DESCRIPTION:• Hero of the Hill\n• Modern 25\n• B P Cartridge\n• Flintlock Shotgun
URL:https://scmlclub.com/event/shotgun-event-36/
LOCATION:SCMLC\, Sackville Ferry Rd\, Sackville North\, NSW\, 2756\, Australia
END:VEVENT
BEGIN:VEVENT
DTSTART;VALUE=DATE:20240914
DTEND;VALUE=DATE:20240915
DTSTAMP:20260423T234516
CREATED:20231205T074937Z
LAST-MODIFIED:20240820T165338Z
UID:13138-1726272000-1726358399@scmlclub.com
SUMMARY:Training Event
DESCRIPTION:• Pistol\n• Rifle\n• Bookings Essential via:\ntraining.scmlc@gmail.com
URL:https://scmlclub.com/event/training-event-8/
LOCATION:SCMLC\, Sackville Ferry Rd\, Sackville North\, NSW\, 2756\, Australia
END:VEVENT
BEGIN:VEVENT
DTSTART;VALUE=DATE:20240922
DTEND;VALUE=DATE:20240923
DTSTAMP:20260423T234516
CREATED:20231205T075407Z
LAST-MODIFIED:20241105T104816Z
UID:13151-1726963200-1727049599@scmlclub.com
SUMMARY:Pistol Event
DESCRIPTION:• 25m Cap A Ball 13/10\n• 25m Centre Fire 15/15\n• 25m Single Action Times 20 Center Ring to count\n• 25m Double Action Times 24 Center Ring to count\n• 25m BP Cartridge 13/10\n• 25m 0.22 Rim Fire 15/18\n• 100m 0.22 Rifle\n• K&S Shannon 100m Cap and Ball 12 Shots
URL:https://scmlclub.com/event/pistol-event-27/
LOCATION:SCMLC\, Sackville Ferry Rd\, Sackville North\, NSW\, 2756\, Australia
END:VEVENT
END:VCALENDAR