BEGIN:VCALENDAR
VERSION:2.0
PRODID:-//Sydney Colonial Muzzle Loading Club - ECPv6.3.3.1//NONSGML v1.0//EN
CALSCALE:GREGORIAN
METHOD:PUBLISH
X-ORIGINAL-URL:https://scmlclub.com
X-WR-CALDESC:Events for Sydney Colonial Muzzle Loading Club
REFRESH-INTERVAL;VALUE=DURATION:PT1H
X-Robots-Tag:noindex
X-PUBLISHED-TTL:PT1H
BEGIN:VTIMEZONE
TZID:UTC
BEGIN:STANDARD
TZOFFSETFROM:+0000
TZOFFSETTO:+0000
TZNAME:UTC
DTSTART:20240101T000000
END:STANDARD
END:VTIMEZONE
BEGIN:VEVENT
DTSTART;VALUE=DATE:20240804
DTEND;VALUE=DATE:20240805
DTSTAMP:20260424T012922
CREATED:20240304T092450Z
LAST-MODIFIED:20240304T092925Z
UID:13226-1722729600-1722815999@scmlclub.com
SUMMARY:Single Action Event
DESCRIPTION:Timed Single Action Scenarios\n• Scenario 1-3: Stage A\n• Scenario 4-6: Stage B
URL:https://scmlclub.com/event/single-action-event-17/
LOCATION:SCMLC\, Sackville Ferry Rd\, Sackville North\, NSW\, 2756\, Australia
END:VEVENT
BEGIN:VEVENT
DTSTART;VALUE=DATE:20240810
DTEND;VALUE=DATE:20240811
DTSTAMP:20260424T012922
CREATED:20231205T074937Z
LAST-MODIFIED:20240820T165338Z
UID:13137-1723248000-1723334399@scmlclub.com
SUMMARY:Training Event
DESCRIPTION:• Pistol\n• Rifle\n• Bookings Essential via:\ntraining.scmlc@gmail.com
URL:https://scmlclub.com/event/training-event-7/
LOCATION:SCMLC\, Sackville Ferry Rd\, Sackville North\, NSW\, 2756\, Australia
END:VEVENT
BEGIN:VEVENT
DTSTART;VALUE=DATE:20240811
DTEND;VALUE=DATE:20240812
DTSTAMP:20260424T012922
CREATED:20240304T065338Z
LAST-MODIFIED:20240304T065338Z
UID:13176-1723334400-1723420799@scmlclub.com
SUMMARY:Rifle Event
DESCRIPTION:• First event of the Day – John Kell OAM Memorial Trophy. Any Flintlock; Field Loading from behind the bench; Only fitted ramrod to be used; Shot with a cold barrel; No flashing off or fouling shots\, 6 rounds\, O/Hand @ 25M• Swinfield Trophy and Lyn Caldwell Agg. 50M\, Any Flintlock Musket. No rear sight; Loading from the body\, 10 rounds\, O/Hand (these two competitions are run as a single event at a reverse target).\n• 25M Flintlock O/Hand\, novelty/hunting target\, 6 rounds\, Agg\n• 50M Plate\, Trad round ball only\, O/Hand\, 10 rounds\, Agg\n• Hunting Event\, target type named on the day\, .22 Rifles included\n• BP Cartridge “Rabbit in the Fence” shoot\, 12 rounds @ 25M \n• Cannon: 25M\, 5 rounds\, Agg
URL:https://scmlclub.com/event/rifle-event-8/
LOCATION:SCMLC\, Sackville Ferry Rd\, Sackville North\, NSW\, 2756\, Australia
END:VEVENT
BEGIN:VEVENT
DTSTART;VALUE=DATE:20240811
DTEND;VALUE=DATE:20240812
DTSTAMP:20260424T012922
CREATED:20240304T084935Z
LAST-MODIFIED:20240805T073904Z
UID:13206-1723334400-1723420799@scmlclub.com
SUMMARY:Shotgun Event
DESCRIPTION:• Hero of the Hill\n• Modern 25\n• B P Cartridge – Rintoul Trophy\n• Percussion Shotgun – Dale Trophy
URL:https://scmlclub.com/event/shotgun-event-33/
LOCATION:SCMLC\, Sackville Ferry Rd\, Sackville North\, NSW\, 2756\, Australia
END:VEVENT
BEGIN:VEVENT
DTSTART;VALUE=DATE:20240817
DTEND;VALUE=DATE:20240818
DTSTAMP:20260424T012922
CREATED:20240304T084936Z
LAST-MODIFIED:20240805T073904Z
UID:13207-1723852800-1723939199@scmlclub.com
SUMMARY:Shotgun Event
DESCRIPTION:• Colonial 50.\n• For muzzle loading shotguns\n• Trophies to 5th place.\n• Lunch included
URL:https://scmlclub.com/event/shotgun-event-34/
LOCATION:SCMLC\, Sackville Ferry Rd\, Sackville North\, NSW\, 2756\, Australia
END:VEVENT
BEGIN:VEVENT
DTSTART;VALUE=DATE:20240818
DTEND;VALUE=DATE:20240819
DTSTAMP:20260424T012922
CREATED:20240304T084936Z
LAST-MODIFIED:20240805T073904Z
UID:13208-1723939200-1724025599@scmlclub.com
SUMMARY:Shotgun Event
DESCRIPTION:• S.C.M.L.C. 100 Bird – Ron Millson Trophy\n• Open event\n• Lunch included
URL:https://scmlclub.com/event/shotgun-event-35/
LOCATION:SCMLC\, Sackville Ferry Rd\, Sackville North\, NSW\, 2756\, Australia
END:VEVENT
BEGIN:VEVENT
DTSTART;VALUE=DATE:20240825
DTEND;VALUE=DATE:20240826
DTSTAMP:20260424T012922
CREATED:20231205T075407Z
LAST-MODIFIED:20241105T104816Z
UID:13150-1724544000-1724630399@scmlclub.com
SUMMARY:Pistol Event
DESCRIPTION:• 25m Cap A Ball 13/10\n• 25m Centre Fire 15/15\n• 25m Single Action Times 20 Center Ring to count\n• 25m Double Action Times 24 Center Ring to count\n• 25m BP Cartridge 13/10\n• 25m 0.22 Rim Fire 15/18\n• 50m 0.22 Rifle\n• S&R Lemonakis 25&50m Single Shot 10/13
URL:https://scmlclub.com/event/pistol-event-26/
LOCATION:SCMLC\, Sackville Ferry Rd\, Sackville North\, NSW\, 2756\, Australia
END:VEVENT
END:VCALENDAR