BEGIN:VCALENDAR
VERSION:2.0
PRODID:-//Sydney Colonial Muzzle Loading Club - ECPv6.3.3.1//NONSGML v1.0//EN
CALSCALE:GREGORIAN
METHOD:PUBLISH
X-WR-CALNAME:Sydney Colonial Muzzle Loading Club
X-ORIGINAL-URL:https://scmlclub.com
X-WR-CALDESC:Events for Sydney Colonial Muzzle Loading Club
REFRESH-INTERVAL;VALUE=DURATION:PT1H
X-Robots-Tag:noindex
X-PUBLISHED-TTL:PT1H
BEGIN:VTIMEZONE
TZID:UTC
BEGIN:STANDARD
TZOFFSETFROM:+0000
TZOFFSETTO:+0000
TZNAME:UTC
DTSTART:20230101T000000
END:STANDARD
TZID:UTC
BEGIN:STANDARD
TZOFFSETFROM:+0000
TZOFFSETTO:+0000
TZNAME:UTC
DTSTART:20230101T000000
END:STANDARD
END:VTIMEZONE
BEGIN:VEVENT
DTSTART;TZID=UTC:20231014T090000
DTEND;TZID=UTC:20231014T160000
DTSTAMP:20260424T160113
CREATED:20221223T040829Z
LAST-MODIFIED:20221223T103513Z
UID:12929-1697274000-1697299200@scmlclub.com
SUMMARY:Training Day
DESCRIPTION:Training Day for the following\nPistol\nRifle\nSafe Handling \nTo arrange your training please email the Trainers at\nscmlc.training@gmail.com
URL:https://scmlclub.com/event/training-day-26/
LOCATION:NSW
END:VEVENT
BEGIN:VEVENT
DTSTART;VALUE=DATE:20231008
DTEND;VALUE=DATE:20231009
DTSTAMP:20260424T160113
CREATED:20230404T093816Z
LAST-MODIFIED:20230404T094016Z
UID:13029-1696723200-1696809599@scmlclub.com
SUMMARY:Shotgun Event
DESCRIPTION:• Hero of the Hill: 50 Sporting Targets\n• Modern 25: Trap S/B\n• B P Cartridge: 20 Sporting Targets\n• Percussion Shotgun: 10 Overhead
URL:https://scmlclub.com/event/shotgun-event-20/
LOCATION:SCMLC\, Sackville Ferry Rd\, Sackville North\, NSW\, 2756\, Australia
END:VEVENT
BEGIN:VEVENT
DTSTART;TZID=UTC:20230924T090000
DTEND;TZID=UTC:20230924T160000
DTSTAMP:20260424T160113
CREATED:20221223T050229Z
LAST-MODIFIED:20230422T063217Z
UID:12954-1695546000-1695571200@scmlclub.com
SUMMARY:Pistol Day
DESCRIPTION:  \n\n\n\n\n\n\n25m Cap & Ball 10/13\n\n\n25m Single Action (Black Powder or Smokeless Powder) 20 Rounds 4×5 Timed\n\n\n25m Double Action (Black Powder or Smokeless Powder) 24 Rounds 4×6 Timed\n\n\n25m Cartridge 10/13\n\n\n25m 0.22 Pistol 15/18\n\n\n25m Centrefire 15/15\n\n\nK&S Shannon 100m Cap & Ball 12 Shots\n\n\n50m Rim Fire Rifle 15/15
URL:https://scmlclub.com/event/pistol-day-6/
LOCATION:NSW
END:VEVENT
BEGIN:VEVENT
DTSTART;VALUE=DATE:20230910
DTEND;VALUE=DATE:20230911
DTSTAMP:20260424T160113
CREATED:20230404T093816Z
LAST-MODIFIED:20230404T094021Z
UID:13028-1694304000-1694390399@scmlclub.com
SUMMARY:Shotgun Event
DESCRIPTION:• Hero of the Hill: 50 Sporting Targets\n• Modern 25: Left to Right Crossers S/B\n• B P Cartridge – Point Score: 10 Targets\n• Flintlock Shotgun: 10 Trap
URL:https://scmlclub.com/event/shotgun-event-19/
LOCATION:SCMLC\, Sackville Ferry Rd\, Sackville North\, NSW\, 2756\, Australia
END:VEVENT
BEGIN:VEVENT
DTSTART;TZID=UTC:20230909T090000
DTEND;TZID=UTC:20230909T160000
DTSTAMP:20260424T160113
CREATED:20221223T040753Z
LAST-MODIFIED:20221223T103538Z
UID:12927-1694250000-1694275200@scmlclub.com
SUMMARY:Training Day
DESCRIPTION:Training Day for the following\nPistol\nRifle\nSafe Handling \nTo arrange your training please email the Trainers at\nscmlc.training@gmail.com
URL:https://scmlclub.com/event/training-day-25/
LOCATION:NSW
CATEGORIES:Training Day
END:VEVENT
BEGIN:VEVENT
DTSTART;TZID=UTC:20230827T090000
DTEND;TZID=UTC:20230827T160000
DTSTAMP:20260424T160113
CREATED:20221223T050049Z
LAST-MODIFIED:20230422T063149Z
UID:12951-1693126800-1693152000@scmlclub.com
SUMMARY:Pistol Day
DESCRIPTION:  \n\n\n\n\n\n\n25m Cap & Ball 10/13\n\n\n25m Single Action (Black Powder or Smokeless Powder) 20 Rounds 4×5 Timed\n\n\n25m Double Action (Black Powder or Smokeless Powder) 24 Rounds 4×6 Timed\n\n\n25m Cartridge 10/13\n\n\n25m 0.22 Pistol 15/18\n\n\n25m Centrefire 15/15\n\n\n25 & 50m S&R Lemonakis Single Shot 10/13 \n \n\n\n50m Rim Fire Rifle 15/15
URL:https://scmlclub.com/event/pistol-day-5/
LOCATION:NSW
END:VEVENT
BEGIN:VEVENT
DTSTART;VALUE=DATE:20230820
DTEND;VALUE=DATE:20230821
DTSTAMP:20260424T160113
CREATED:20230404T093816Z
LAST-MODIFIED:20230404T094026Z
UID:13027-1692489600-1692575999@scmlclub.com
SUMMARY:Shotgun Event
DESCRIPTION:• S.C.M.L.C. 100 Bird – Ron Millson Trophy: 100 Sporting Targets\n• Open event\n• Lunch included
URL:https://scmlclub.com/event/shotgun-event-18/
LOCATION:SCMLC\, Sackville Ferry Rd\, Sackville North\, NSW\, 2756\, Australia
END:VEVENT
BEGIN:VEVENT
DTSTART;VALUE=DATE:20230819
DTEND;VALUE=DATE:20230820
DTSTAMP:20260424T160113
CREATED:20230404T093816Z
LAST-MODIFIED:20230404T094033Z
UID:13026-1692403200-1692489599@scmlclub.com
SUMMARY:Shotgun Event
DESCRIPTION:• Colonial 50.: 50 Sporting Targets\n• For muzzle loading shotguns\n• Trophies to 5th place\n• Lunch included
URL:https://scmlclub.com/event/shotgun-event-17/
LOCATION:SCMLC\, Sackville Ferry Rd\, Sackville North\, NSW\, 2756\, Australia
END:VEVENT
BEGIN:VEVENT
DTSTART;VALUE=DATE:20230813
DTEND;VALUE=DATE:20230814
DTSTAMP:20260424T160113
CREATED:20230404T093816Z
LAST-MODIFIED:20230404T094038Z
UID:13025-1691884800-1691971199@scmlclub.com
SUMMARY:Shotgun Event
DESCRIPTION:• Hero of the Hill: 50 Sporting Targets\n• Modern 25: 25 from Behind\n• B P Cartridge – Rintoul Trophy: 25 Targets S/B\n• Percussion Shotgun – Dale Trophy: 20 Trap
URL:https://scmlclub.com/event/shotgun-event-16/
LOCATION:SCMLC\, Sackville Ferry Rd\, Sackville North\, NSW\, 2756\, Australia
END:VEVENT
BEGIN:VEVENT
DTSTART;TZID=UTC:20230812T090000
DTEND;TZID=UTC:20230812T160000
DTSTAMP:20260424T160113
CREATED:20221223T040714Z
LAST-MODIFIED:20221223T103612Z
UID:12925-1691830800-1691856000@scmlclub.com
SUMMARY:Training Day
DESCRIPTION:Training Day for the following\nPistol\nRifle\nSafe Handling \nTo arrange your training please email the Trainers at\nscmlc.training@gmail.com
URL:https://scmlclub.com/event/training-day-24/
LOCATION:NSW
END:VEVENT
BEGIN:VEVENT
DTSTART;VALUE=DATE:20230709
DTEND;VALUE=DATE:20230710
DTSTAMP:20260424T160113
CREATED:20230404T093815Z
LAST-MODIFIED:20230404T094042Z
UID:13024-1688860800-1688947199@scmlclub.com
SUMMARY:Shotgun Event
DESCRIPTION:• Hero of the Hill: 50 Sporting Targets\n• Working Bee for the rest of the day\n• Non attendance will incur $50.00\n• Added to annual membership fee
URL:https://scmlclub.com/event/shotgun-event-15/
LOCATION:SCMLC\, Sackville Ferry Rd\, Sackville North\, NSW\, 2756\, Australia
END:VEVENT
BEGIN:VEVENT
DTSTART;TZID=UTC:20230701T080000
DTEND;TZID=UTC:20230730T170000
DTSTAMP:20260424T160113
CREATED:20221223T050834Z
LAST-MODIFIED:20221223T050921Z
UID:12963-1688198400-1690736400@scmlclub.com
SUMMARY:Working Bee
DESCRIPTION:  \nALL MONTH OF JULY 2023
URL:https://scmlclub.com/event/working-bee-2/
LOCATION:NSW
END:VEVENT
BEGIN:VEVENT
DTSTART;TZID=UTC:20230625T090000
DTEND;TZID=UTC:20230625T160000
DTSTAMP:20260424T160113
CREATED:20221223T045658Z
LAST-MODIFIED:20230422T063109Z
UID:12949-1687683600-1687708800@scmlclub.com
SUMMARY:Pistol Day
DESCRIPTION:  \n\n\n\n\n\n\n25m Cap & Ball 10/13\n\n\n25m Single Action (Black Powder or Smokeless Powder) 20 Rounds 4×5 Timed\n\n\n25m Double Action (Black Powder or Smokeless Powder) 24 Rounds 4×6 Timed\n\n\n25m Cartridge 10/13\n\n\n25m 0.22 Pistol 15/18\n\n\n25m Centrefire 15/15\n\n\nBarry Lowe Memorial 25&50 Cap & Ball Handicap Scores\n\n\n50m Rim Fire Rifle 15/15
URL:https://scmlclub.com/event/pistol-day-4/
LOCATION:NSW
END:VEVENT
BEGIN:VEVENT
DTSTART;VALUE=DATE:20230611
DTEND;VALUE=DATE:20230612
DTSTAMP:20260424T160113
CREATED:20230404T093815Z
LAST-MODIFIED:20230404T094047Z
UID:13023-1686441600-1686527999@scmlclub.com
SUMMARY:Shotgun Event
DESCRIPTION:• Hero of the Hill: 50 Sporting Targets\n• Modern 25: 25 Trap S/B.\n• B P Cartridge: 15 Overhead\n• Flintlock Shotgun: 10 Tower
URL:https://scmlclub.com/event/shotgun-event-14/
LOCATION:SCMLC\, Sackville Ferry Rd\, Sackville North\, NSW\, 2756\, Australia
END:VEVENT
BEGIN:VEVENT
DTSTART;TZID=UTC:20230610T090000
DTEND;TZID=UTC:20230610T160000
DTSTAMP:20260424T160113
CREATED:20221223T040629Z
LAST-MODIFIED:20221223T103731Z
UID:12923-1686387600-1686412800@scmlclub.com
SUMMARY:Training Day
DESCRIPTION:Training Day for the following\nPistol\nRifle\nSafe Handling \nTo arrange your training please email the Trainers at\nscmlc.training@gmail.com
URL:https://scmlclub.com/event/training-day-23/
LOCATION:NSW
END:VEVENT
BEGIN:VEVENT
DTSTART;TZID=UTC:20230528T090000
DTEND;TZID=UTC:20230528T160000
DTSTAMP:20260424T160113
CREATED:20221223T045557Z
LAST-MODIFIED:20230422T063037Z
UID:12947-1685264400-1685289600@scmlclub.com
SUMMARY:Pistol Day
DESCRIPTION:  \n\n\n\n\n\n\n25m Cap & Ball 10/13\n\n\n25m Single Action (Black Powder or Smokeless Powder) 20 Rounds 4×5 Timed\n\n\n25m Double Action (Black Powder or Smokeless Powder) 24 Rounds 4×6 Timed\n\n\n25m Cartridge 10/13\n\n\n25m Centrefire 15/15\n\n\n25m Ian Johnston 10 shot Percussion/10 Shot Duelling Cap & Ball\n\n\nBruce Ramm Memorial 25m 0.22 Pistol 15/128 Front\,15/18 Rear\n\n\n50m Rim Fire Rifle 15/15
URL:https://scmlclub.com/event/pistol-day-3/
LOCATION:NSW
END:VEVENT
BEGIN:VEVENT
DTSTART;VALUE=DATE:20230521
DTEND;VALUE=DATE:20230522
DTSTAMP:20260424T160113
CREATED:20230404T093815Z
LAST-MODIFIED:20230404T094052Z
UID:13022-1684627200-1684713599@scmlclub.com
SUMMARY:Shotgun Event
DESCRIPTION:• Hero of the Hill: 50 Sporting Targets\n• Modern 25: 25 Right to Left Crossers\n• B P Cartridge: 15 Field S/B.\n• Percussion Shotgun – Olympia Trophy: 10 Trap/10 Behind/10 Overhead
URL:https://scmlclub.com/event/shotgun-event-13/
LOCATION:SCMLC\, Sackville Ferry Rd\, Sackville North\, NSW\, 2756\, Australia
END:VEVENT
BEGIN:VEVENT
DTSTART;TZID=UTC:20230513T090000
DTEND;TZID=UTC:20230513T160000
DTSTAMP:20260424T160113
CREATED:20221223T040537Z
LAST-MODIFIED:20221223T103815Z
UID:12921-1683968400-1683993600@scmlclub.com
SUMMARY:Training Day
DESCRIPTION:Training Day for the following\nPistol\nRifle\nSafe Handling \nTo arrange your training please email the Trainers at\nscmlc.training@gmail.com
URL:https://scmlclub.com/event/training-day-22/
LOCATION:NSW
END:VEVENT
BEGIN:VEVENT
DTSTART;TZID=UTC:20230423T090000
DTEND;TZID=UTC:20230423T160000
DTSTAMP:20260424T160113
CREATED:20221223T045427Z
LAST-MODIFIED:20230422T062935Z
UID:12945-1682240400-1682265600@scmlclub.com
SUMMARY:Pistol Event
DESCRIPTION:  \n\n\n\n\n\n\n25m Cap & Ball 10/13\n\n\n25m Single Action (Black Powder or Smokeless Powder) 20 Rounds 4×5 Timed\n\n\n25m Double Action (Black Powder or Smokeless Powder) 24 Rounds 4×6 Timed\n\n\n25m Cartridge 10/13\n\n\n25m 0.22 Pistol 15/18\n\n\n25m Centrefire 15/15\n\n\n50m Single Shot Match/Flintlock or Percussion 15 Shot\n\n\n50m Rim Fire Rifle 15/15
URL:https://scmlclub.com/event/pistol-event-19/
LOCATION:NSW
END:VEVENT
BEGIN:VEVENT
DTSTART;VALUE=DATE:20230416
DTEND;VALUE=DATE:20230417
DTSTAMP:20260424T160113
CREATED:20230404T093813Z
LAST-MODIFIED:20230404T094056Z
UID:13021-1681603200-1681689599@scmlclub.com
SUMMARY:Shotgun Event
DESCRIPTION:• Hero of the Hill: 50 Sporting Targets\n• Modern 25: 25 Field S/B.\n• B P Cartridge: 15 Field S/B\n• Flintlock Shotgun – Winchester Trophy: 10 Targets
URL:https://scmlclub.com/event/shotgun-event-12/
LOCATION:SCMLC\, Sackville Ferry Rd\, Sackville North\, NSW\, 2756\, Australia
END:VEVENT
BEGIN:VEVENT
DTSTART;TZID=UTC:20230408T090000
DTEND;TZID=UTC:20230408T160000
DTSTAMP:20260424T160113
CREATED:20221223T040430Z
LAST-MODIFIED:20221223T103844Z
UID:12918-1680944400-1680969600@scmlclub.com
SUMMARY:Training Day
DESCRIPTION:Training Day for the following\nPistol\nRifle\nSafe Handling \nTo arrange your training please email the Trainers at\nscmlc.training@gmail.com
URL:https://scmlclub.com/event/training/
LOCATION:NSW
END:VEVENT
BEGIN:VEVENT
DTSTART;TZID=UTC:20230326T090000
DTEND;TZID=UTC:20230326T090000
DTSTAMP:20260424T160113
CREATED:20221223T044505Z
LAST-MODIFIED:20221223T044505Z
UID:12943-1679821200-1679821200@scmlclub.com
SUMMARY:Pistol Event
DESCRIPTION:25m Cap & Ball 10/13\n\n\n25m Cartridge 10/13\n\n\n25m Single Action (Black Powder or Smokeless Powder) 20 Rounds 4×5 Timed\n\n\n25m Double Action (Black Powder or Smokeless Powder) 24 Rounds 4×6 Timed\n\n\n25m Cartridge 10/13\n\n\n25m 0.22 Pistol 15/18\n\n\n25m Centrefire 15/15\n\n\n25m T&J Potter Single Shot Trophy 20 Shots\n\n\n50m Rim Fire Rifle 15/15
URL:https://scmlclub.com/event/pistol-event-18/
LOCATION:NSW
END:VEVENT
BEGIN:VEVENT
DTSTART;VALUE=DATE:20230319
DTEND;VALUE=DATE:20230320
DTSTAMP:20260424T160113
CREATED:20230404T093812Z
LAST-MODIFIED:20230404T094101Z
UID:13020-1679184000-1679270399@scmlclub.com
SUMMARY:Shotgun Event
DESCRIPTION:• S.C.M.L.C. 100 Bird – Open Shoot: 100 Target\n• Trophies for Members and Visitors\n• Lunch included
URL:https://scmlclub.com/event/shotgun-event-11/
LOCATION:SCMLC\, Sackville Ferry Rd\, Sackville North\, NSW\, 2756\, Australia
END:VEVENT
BEGIN:VEVENT
DTSTART;VALUE=DATE:20230319
DTEND;VALUE=DATE:20230320
DTSTAMP:20260424T160113
CREATED:20230222T082558Z
LAST-MODIFIED:20230222T082558Z
UID:13003-1679184000-1679270399@scmlclub.com
SUMMARY:100 Target Sporting Clays
DESCRIPTION:Join us on March 19\, 2023\, at 426 Sackville Ferry Rd\, Sackville North NSW 2756\, for an exciting day of clay shooting.\nCheck-in opens promptly at 9:00 AM\, followed by the start of the match at 9:30 AM sharp.\n​​​​​​​The cost to participate is $60.00\, which includes a delicious BBQ lunch and soft drinks to keep you energized throughout the rounds. Plus\, you’ll have the chance to win amazing random prizes throughout the event.\nDon’t miss out on this opportunity to challenge your skills and meet other shooting enthusiasts.
URL:https://scmlclub.com/event/100-target-sporting-clays/
LOCATION:SCMLC\, Sackville Ferry Rd\, Sackville North\, NSW\, 2756\, Australia
END:VEVENT
BEGIN:VEVENT
DTSTART;VALUE=DATE:20230312
DTEND;VALUE=DATE:20230313
DTSTAMP:20260424T160113
CREATED:20230404T093811Z
LAST-MODIFIED:20230404T094112Z
UID:13019-1678579200-1678665599@scmlclub.com
SUMMARY:Shotgun Event
DESCRIPTION:• Hero of the Hill: 50 Sporting Targets\n• Modern 25: 25 Overhead S/B\n• B.P Cartridge – Ken Turnbull Trophy: 20 Trap\n• Percussion Shotgun – T&T Double Rise Trophy: 10 Doubles
URL:https://scmlclub.com/event/shotgun-event-10/
LOCATION:SCMLC\, Sackville Ferry Rd\, Sackville North\, NSW\, 2756\, Australia
END:VEVENT
BEGIN:VEVENT
DTSTART;TZID=UTC:20230311T090000
DTEND;TZID=UTC:20230311T160000
DTSTAMP:20260424T160113
CREATED:20221223T033414Z
LAST-MODIFIED:20221223T103914Z
UID:12914-1678525200-1678550400@scmlclub.com
SUMMARY:Training Day
DESCRIPTION:Training Day for the following\nPistol\nRifle\nSafe Handling \nTo arrange your training please email the Trainers at\nscmlc.training@gmail.com
URL:https://scmlclub.com/event/training-day-21/
LOCATION:NSW
END:VEVENT
BEGIN:VEVENT
DTSTART;TZID=UTC:20230226T090000
DTEND;TZID=UTC:20230226T160000
DTSTAMP:20260424T160113
CREATED:20221223T042211Z
LAST-MODIFIED:20221223T042212Z
UID:12940-1677402000-1677427200@scmlclub.com
SUMMARY:Pistol Day
DESCRIPTION:25m Cap & Ball 10/13\n\n\n25m Cartridge 10/13\n\n\n25m Single Action (Black Powder or Smokeless Powder) 20 Rounds 4×5 Timed\n\n\n25m Double Action (Black Powder or Smokeless Powder) 24 Rounds 4×6 Timed\n\n\n25m Cartridge 10/13\n\n\n25m 0.22 Pistol 15/18\n\n\n25m Centrefire 15/15\n\n\nKen Gamble Open Frame Cap & Ball 10/13\n\n\n50m Rim Fire Rifle 15/15
URL:https://scmlclub.com/event/pistol-day-2/
LOCATION:NSW
CATEGORIES:Pistol Day
END:VEVENT
BEGIN:VEVENT
DTSTART;VALUE=DATE:20230212
DTEND;VALUE=DATE:20230213
DTSTAMP:20260424T160113
CREATED:20230404T093810Z
LAST-MODIFIED:20230404T094116Z
UID:13018-1676160000-1676246399@scmlclub.com
SUMMARY:Shotgun Event
DESCRIPTION:• Hero of the Hill: 50 Sporting Targets\n• Modern 25: 25 Sporting Targets S/B\n• B P Cartridge: 15 Trap S/B\n• Flintlock Shotgun: 10 Overhead
URL:https://scmlclub.com/event/shotgun-event-9/
LOCATION:SCMLC\, Sackville Ferry Rd\, Sackville North\, NSW\, 2756\, Australia
END:VEVENT
BEGIN:VEVENT
DTSTART;TZID=UTC:20230211T090000
DTEND;TZID=UTC:20230211T160000
DTSTAMP:20260424T160113
CREATED:20221223T030419Z
LAST-MODIFIED:20221223T103937Z
UID:12911-1676106000-1676131200@scmlclub.com
SUMMARY:Training Day
DESCRIPTION:Training Day for the following\nPistol\nRifle\nSafe Handling \nTo arrange your training please email the Trainers at\nscmlc.training@gmail.com
URL:https://scmlclub.com/event/training-day-20/
LOCATION:NSW
END:VEVENT
BEGIN:VEVENT
DTSTART;TZID=UTC:20230122T090000
DTEND;TZID=UTC:20230122T160000
DTSTAMP:20260424T160113
CREATED:20221223T041934Z
LAST-MODIFIED:20230118T042603Z
UID:12937-1674378000-1674403200@scmlclub.com
SUMMARY:Pistol Day
DESCRIPTION:  \n \n  \n\n\n\n25m Cap & Ball 10/13\n\n\n25m Cartridge 10/13\n\n\n25m Single Action (Black Powder or Smokeless Powder) 20 Rounds 4×5 Timed\n\n\n25m Double Action (Black Powder or Smokeless Powder) 24 Rounds 4×6 Timed\n\n\n25m 0.22 Pistol 15/18\n\n\n25m Centrefire 15/15\n\n\n50m Rim Fire Rifle 15/15\n\n\nKen Hiley Walker/Dragoon Shootout 30 Shots\n\n\n50m Single Shot Match/Flintlock or Percussion 15 Shot\n\n\n\n\n\n\n 
URL:https://scmlclub.com/event/pistol-day/
LOCATION:NSW
END:VEVENT
END:VCALENDAR