BEGIN:VCALENDAR
VERSION:2.0
PRODID:-//Sydney Colonial Muzzle Loading Club - ECPv6.3.3.1//NONSGML v1.0//EN
CALSCALE:GREGORIAN
METHOD:PUBLISH
X-WR-CALNAME:Sydney Colonial Muzzle Loading Club
X-ORIGINAL-URL:https://scmlclub.com
X-WR-CALDESC:Events for Sydney Colonial Muzzle Loading Club
REFRESH-INTERVAL;VALUE=DURATION:PT1H
X-Robots-Tag:noindex
X-PUBLISHED-TTL:PT1H
BEGIN:VTIMEZONE
TZID:UTC
BEGIN:STANDARD
TZOFFSETFROM:+0000
TZOFFSETTO:+0000
TZNAME:UTC
DTSTART:20250101T000000
END:STANDARD
END:VTIMEZONE
BEGIN:VEVENT
DTSTART;VALUE=DATE:20250615
DTEND;VALUE=DATE:20250616
DTSTAMP:20260424T063631
CREATED:20240805T073937Z
LAST-MODIFIED:20240805T073937Z
UID:13279-1749945600-1750031999@scmlclub.com
SUMMARY:Shotgun Event
DESCRIPTION:• The Black Magic 75\n• Open event for Black Powder Cartridge\n• Medals to 5th place.\n• Lunch included
URL:https://scmlclub.com/event/shotgun-event-50/
LOCATION:SCMLC\, Sackville Ferry Rd\, Sackville North\, NSW\, 2756\, Australia
END:VEVENT
END:VCALENDAR