BEGIN:VCALENDAR
VERSION:2.0
PRODID:-//Sydney Colonial Muzzle Loading Club - ECPv6.3.3.1//NONSGML v1.0//EN
CALSCALE:GREGORIAN
METHOD:PUBLISH
X-ORIGINAL-URL:https://scmlclub.com
X-WR-CALDESC:Events for Sydney Colonial Muzzle Loading Club
REFRESH-INTERVAL;VALUE=DURATION:PT1H
X-Robots-Tag:noindex
X-PUBLISHED-TTL:PT1H
BEGIN:VTIMEZONE
TZID:UTC
BEGIN:STANDARD
TZOFFSETFROM:+0000
TZOFFSETTO:+0000
TZNAME:UTC
DTSTART:20250101T000000
END:STANDARD
TZID:UTC
BEGIN:STANDARD
TZOFFSETFROM:+0000
TZOFFSETTO:+0000
TZNAME:UTC
DTSTART:20250101T000000
END:STANDARD
END:VTIMEZONE
BEGIN:VEVENT
DTSTART;VALUE=DATE:20250614
DTEND;VALUE=DATE:20250615
DTSTAMP:20260424T063737
CREATED:20240820T165355Z
LAST-MODIFIED:20241122T211932Z
UID:13306-1749859200-1749945599@scmlclub.com
SUMMARY:Training Event
DESCRIPTION:9am Start. \nSCMLC\, Sackville Ferry Road\, Sackville \nEnsure you have Ear and Eye Protection \n• Pistol\n• Rifle\n• Bookings Essential via:\ntraining.scmlc@gmail.com
URL:https://scmlclub.com/event/training-event-17/
LOCATION:SCMLC\, Sackville Ferry Rd\, Sackville North\, NSW\, 2756\, Australia
END:VEVENT
BEGIN:VEVENT
DTSTART;TZID=UTC:20250614T090000
DTEND;TZID=UTC:20250614T170000
DTSTAMP:20260424T063737
CREATED:20250116T213141Z
LAST-MODIFIED:20250117T233549Z
UID:13345-1749891600-1749920400@scmlclub.com
SUMMARY:Rifle Development Day
DESCRIPTION:This development day is set up to test a new Rifle Event aimed at various target sizes at various distances. \nThese events are conducted on the lower 300m Rifle Range \nFor further information contact: \nscmlc.training@gmail.com \nThe event organizer will get back to you with more information. \nBOOKINGS ARE ESSENTIAL FOR THESE EVENTS
URL:https://scmlclub.com/event/rifle-load-development-day-5/
LOCATION:SCMLC\, Sackville Ferry Rd\, Sackville North\, NSW\, 2756\, Australia
CATEGORIES:Rifle Development Day
ORGANIZER;CN="Andrew Norman":MAILTO:scmlc.training@gmail.com
END:VEVENT
END:VCALENDAR