BEGIN:VCALENDAR
VERSION:2.0
PRODID:-//Sydney Colonial Muzzle Loading Club - ECPv6.3.3.1//NONSGML v1.0//EN
CALSCALE:GREGORIAN
METHOD:PUBLISH
X-ORIGINAL-URL:https://scmlclub.com
X-WR-CALDESC:Events for Sydney Colonial Muzzle Loading Club
REFRESH-INTERVAL;VALUE=DURATION:PT1H
X-Robots-Tag:noindex
X-PUBLISHED-TTL:PT1H
BEGIN:VTIMEZONE
TZID:UTC
BEGIN:STANDARD
TZOFFSETFROM:+0000
TZOFFSETTO:+0000
TZNAME:UTC
DTSTART:20250101T000000
END:STANDARD
END:VTIMEZONE
BEGIN:VEVENT
DTSTART;TZID=UTC:20250216T090000
DTEND;TZID=UTC:20250216T170000
DTSTAMP:20260423T232849
CREATED:20250117T233857Z
LAST-MODIFIED:20250117T233857Z
UID:13358-1739696400-1739725200@scmlclub.com
SUMMARY:Rifle Development Day
DESCRIPTION:This development day is set up to test a new Rifle Event aimed at various target sizes at various distances. \nThese events are conducted on the lower 300m Rifle Range \nFor further information contact: \nscmlc.training@gmail.com \nThe event organizer will get back to you with more information. \nBOOKINGS ARE ESSENTIAL FOR THESE EVENTS
URL:https://scmlclub.com/event/rifle-development-day-2/
LOCATION:SCMLC\, Sackville Ferry Rd\, Sackville North\, NSW\, 2756\, Australia
CATEGORIES:Rifle Development Day
ORGANIZER;CN="Andrew Norman":MAILTO:scmlc.training@gmail.com
END:VEVENT
BEGIN:VEVENT
DTSTART;TZID=UTC:20250216T090000
DTEND;TZID=UTC:20250216T170000
DTSTAMP:20260423T232849
CREATED:20250117T234030Z
LAST-MODIFIED:20250117T234048Z
UID:13362-1739696400-1739725200@scmlclub.com
SUMMARY:Rifle Development Day
DESCRIPTION:This development day is set up to test a new Rifle Event aimed at various target sizes at various distances. \nThese events are conducted on the lower 300m Rifle Range \nFor further information contact: \nscmlc.training@gmail.com \nThe event organizer will get back to you with more information. \nBOOKINGS ARE ESSENTIAL FOR THESE EVENTS
URL:https://scmlclub.com/event/rifle-development-day-4/
LOCATION:SCMLC\, Sackville Ferry Rd\, Sackville North\, NSW\, 2756\, Australia
ORGANIZER;CN="Andrew Norman":MAILTO:scmlc.training@gmail.com
END:VEVENT
END:VCALENDAR