BEGIN:VCALENDAR
VERSION:2.0
PRODID:-//Sydney Colonial Muzzle Loading Club - ECPv6.3.3.1//NONSGML v1.0//EN
CALSCALE:GREGORIAN
METHOD:PUBLISH
X-ORIGINAL-URL:https://scmlclub.com
X-WR-CALDESC:Events for Sydney Colonial Muzzle Loading Club
REFRESH-INTERVAL;VALUE=DURATION:PT1H
X-Robots-Tag:noindex
X-PUBLISHED-TTL:PT1H
BEGIN:VTIMEZONE
TZID:UTC
BEGIN:STANDARD
TZOFFSETFROM:+0000
TZOFFSETTO:+0000
TZNAME:UTC
DTSTART:20240101T000000
END:STANDARD
END:VTIMEZONE
BEGIN:VEVENT
DTSTART;VALUE=DATE:20241208
DTEND;VALUE=DATE:20241209
DTSTAMP:20260423T164043
CREATED:20240304T065338Z
LAST-MODIFIED:20240304T065338Z
UID:13181-1733616000-1733702399@scmlclub.com
SUMMARY:Rifle Event
DESCRIPTION:• 100yd Flintlock Bench Rest\, 10 rounds\, Agg• Christmas Aggregate\, Novelty Events\, Ham & Pudding Prizes\n• 50M Plate\, Trad round ball only\, O/Hand\, 10 rounds\, Agg
URL:https://scmlclub.com/event/rifle-event-13/
LOCATION:SCMLC\, Sackville Ferry Rd\, Sackville North\, NSW\, 2756\, Australia
END:VEVENT
BEGIN:VEVENT
DTSTART;VALUE=DATE:20241208
DTEND;VALUE=DATE:20241209
DTSTAMP:20260423T164043
CREATED:20240805T073907Z
LAST-MODIFIED:20240805T073907Z
UID:13271-1733616000-1733702399@scmlclub.com
SUMMARY:Shotgun Event
DESCRIPTION:• Hero of the Hill\n• Novelty Events for Prizes
URL:https://scmlclub.com/event/shotgun-event-42/
LOCATION:SCMLC\, Sackville Ferry Rd\, Sackville North\, NSW\, 2756\, Australia
END:VEVENT
END:VCALENDAR