BEGIN:VCALENDAR
VERSION:2.0
PRODID:-//Sydney Colonial Muzzle Loading Club - ECPv6.3.3.1//NONSGML v1.0//EN
CALSCALE:GREGORIAN
METHOD:PUBLISH
X-ORIGINAL-URL:https://scmlclub.com
X-WR-CALDESC:Events for Sydney Colonial Muzzle Loading Club
REFRESH-INTERVAL;VALUE=DURATION:PT1H
X-Robots-Tag:noindex
X-PUBLISHED-TTL:PT1H
BEGIN:VTIMEZONE
TZID:UTC
BEGIN:STANDARD
TZOFFSETFROM:+0000
TZOFFSETTO:+0000
TZNAME:UTC
DTSTART:20240101T000000
END:STANDARD
END:VTIMEZONE
BEGIN:VEVENT
DTSTART;VALUE=DATE:20240908
DTEND;VALUE=DATE:20240909
DTSTAMP:20260424T012922
CREATED:20240304T065338Z
LAST-MODIFIED:20240304T065338Z
UID:13177-1725753600-1725839999@scmlclub.com
SUMMARY:Rifle Event
DESCRIPTION:• 50M Percussion O/Hand\, 10 rounds\, Agg• J & E Kell Trophy\, BP Breechloading Rifle\, 100yd\, Bench Rest\, 10 rounds\n• Colonial BP Breechloading Rifle\, 100yd O/Hand 10 rounds\n• 50M Plate\, Trad round ball only\, O/Hand\, 10 rounds\, Agg\n• Hunting Event\, target type named on the day\, .22 Rifles included \n• Cannon: 25M\, 3 rounds\, then same target\n• Cannon: 50M\, 3 rounds – Agg
URL:https://scmlclub.com/event/rifle-event-9/
LOCATION:SCMLC\, Sackville Ferry Rd\, Sackville North\, NSW\, 2756\, Australia
END:VEVENT
BEGIN:VEVENT
DTSTART;VALUE=DATE:20240908
DTEND;VALUE=DATE:20240909
DTSTAMP:20260424T012922
CREATED:20240304T084936Z
LAST-MODIFIED:20240805T073904Z
UID:13209-1725753600-1725839999@scmlclub.com
SUMMARY:Shotgun Event
DESCRIPTION:• Hero of the Hill\n• Modern 25\n• B P Cartridge\n• Flintlock Shotgun
URL:https://scmlclub.com/event/shotgun-event-36/
LOCATION:SCMLC\, Sackville Ferry Rd\, Sackville North\, NSW\, 2756\, Australia
END:VEVENT
END:VCALENDAR