BEGIN:VCALENDAR
VERSION:2.0
PRODID:-//Sydney Colonial Muzzle Loading Club - ECPv6.3.3.1//NONSGML v1.0//EN
CALSCALE:GREGORIAN
METHOD:PUBLISH
X-ORIGINAL-URL:https://scmlclub.com
X-WR-CALDESC:Events for Sydney Colonial Muzzle Loading Club
REFRESH-INTERVAL;VALUE=DURATION:PT1H
X-Robots-Tag:noindex
X-PUBLISHED-TTL:PT1H
BEGIN:VTIMEZONE
TZID:UTC
BEGIN:STANDARD
TZOFFSETFROM:+0000
TZOFFSETTO:+0000
TZNAME:UTC
DTSTART:20240101T000000
END:STANDARD
END:VTIMEZONE
BEGIN:VEVENT
DTSTART;VALUE=DATE:20240623
DTEND;VALUE=DATE:20240624
DTSTAMP:20260424T192239
CREATED:20231205T075407Z
LAST-MODIFIED:20240621T215655Z
UID:13149-1719100800-1719187199@scmlclub.com
SUMMARY:Pistol Event
DESCRIPTION:9am Start\n• 25m Cap & Ball 13/10\n• 25m Single Action Times 20 Centre Ring to count\n• 25m Double Action Times 24 Centre Ring to count\n• 25m BP Cartridge 13/10\n• 25m Centre Fire 15/15\n• 25m 0.22 Rim Fire 15/18\n• 50M 0.22 Rifle
URL:https://scmlclub.com/event/pistol-event-25/
LOCATION:SCMLC\, Sackville Ferry Rd\, Sackville North\, NSW\, 2756\, Australia
END:VEVENT
END:VCALENDAR